BEGIN:VCALENDAR
VERSION:2.0
PRODID:-//hacksw/handcal//NONSGML v1.0//EN
BEGIN:VEVENT
DTSTAMP:20270425T200000Z
DTSTART:20270425T200000Z
DTEND:20270425T230000Z

SUMMARY:A Midsummer Night's Dream
DESCRIPTION:Get swept away to an enchanted realm with a ballet that’s equal parts drama, romance, and comedy. In George Balanchine’s witty adaptation of A Midsummer Night’s Dream, joy reigns supreme (no disrespect to Oberon). Add Felix Mendelssohn’s glorious score, lavish sets, and dazzling costumes and it’s no wonder this exuberant production has been captivating PNB audiences for over 25 years.PRODUCTION INFORMATIONMusic: Felix Mendelssohn Choreography: George Balanchine © The George Balanchine TrustScenic & Costume Design: Martin PakledinazLighting Design: Randall G. ChiarelliPhoto © Angela Sterling
END:VEVENT
END:VCALENDAR