BEGIN:VCALENDAR
VERSION:2.0
PRODID:-//hacksw/handcal//NONSGML v1.0//EN
BEGIN:VEVENT
DTSTAMP:20270613T200000Z
DTSTART:20270613T200000Z
DTEND:20270613T230000Z

SUMMARY:Ballet on Broadway
DESCRIPTION:Our final production of the season features three choreographers equally at home on Broadway and at Pacific Northwest Ballet. Here, all three combine a knack for storytelling with superb dancing, and a bit of jazz for good measure. Twyla Tharp&#39;s Waiting at the Station, made for PNB in 2013, welcomes you to 1940’s New Orleans to the sweet strains of Allen Toussaint’s custom score. Christopher Wheeldon’s Carousel (A Dance) takes inspiration from the 1945 Rodgers and Hammerstein musical, and Susan Stroman’s TAKE FIVE...More or Less brings a jazz classic to life in a piece The Seattle Times calls “pure dance, and pure joy.”PRODUCTION INFORMATIONCarousel (A Dance)Music: Richard RodgersChoreography: Christopher WheeldonCostume Design: Holly HynesLighting Design: Mark StanleyTAKE FIVE…More or LessMusic: Dave Brubeck and Paul DesmondChoreography: Susan StromanCostume Design: William Ivey LongLighting Design: Randall G. ChiarelliWaiting at the StationMusic: Allen ToussaintChoreography: Twyla TharpStaging: Kiyon RossScenic Design: Santo LoquastoCostume Design: Santo LoquastoLighting Design: James F. IngallsPhoto © Angela Sterling
END:VEVENT
END:VCALENDAR