BEGIN:VCALENDAR
VERSION:2.0
PRODID:-//hacksw/handcal//NONSGML v1.0//EN
BEGIN:VEVENT
DTSTAMP:20230517T023000Z
DTSTART:20230517T023000Z
DTEND:20230517T043000Z

SUMMARY:Bill Nye: Change the World! Ideas on Fighting Climate Change
DESCRIPTION:Seattle’s favorite “Science Guy” Bill Nye returns in a rare appearance to share his eye-opening views on Climate Change and empower the audience to give change a chance.Bill will walk the audience through his start as The Science Guy, share his mission to increase scientific literacy, and offer tips on what you can do to mitigate climate change.Presented by: Unique Lives & Experiences.
END:VEVENT
END:VCALENDAR