BEGIN:VCALENDAR
VERSION:2.0
PRODID:-//hacksw/handcal//NONSGML v1.0//EN
BEGIN:VEVENT
DTSTAMP:20220324T030000Z
DTSTART:20220324T030000Z
DTEND:20220324T050000Z

SUMMARY:Dancing with the Stars
DESCRIPTION:America’s favorite dance show is coming to your town with “Dancing with the Stars – Live Tour 2022!”  Your favorite dancers from this iconic television series hit the stage this winter with an ALL NEW SHOW. Starring Brandon Armstrong, Alan Bersten, Artem Chigvintsev, Sasha Farber, Daniella Karagach, Pasha Pashkov, Gleb Savchenko, Emma Slater, Britt Stewart and more to come! Fans will see time honored dancers like the Cha Cha, Foxtrot, Salsa, Tango- and everything in between. Join us for a theatrical dance show, you can’t miss! 
END:VEVENT
END:VCALENDAR