BEGIN:VCALENDAR
VERSION:2.0
PRODID:-//hacksw/handcal//NONSGML v1.0//EN
BEGIN:VEVENT
DTSTAMP:20270328T200000Z
DTSTART:20270328T200000Z
DTEND:20270328T230000Z

SUMMARY:Director's Choice
DESCRIPTION:Shake up your spring with electric new dance experiences! Back for the first time since its premiere in 2019, Eva Stone’s elegant F O I L explores different sides of the human experience from Stone’s unique storytelling lens. Christopher Wheeldon’s This Bitter Earth is an emotionally striking pas de deux set to a poignant remix of Dinah Washington’s “This Bitter Earth” and Max Richter’s “On the Nature of Daylight.” To close, choreographer Kyle Abraham will bring his unique avant-garde aesthetic to PNB for the first time in a world premiere work.PRODUCTION INFORMATION F O I LMusic: Fanny Mendelssohn, Nadia Boulanger, Élisabeth Jacquet de la Guerre, Clara Schumann, Francesca LebrunChoreography: Eva StoneCostume Design: Melanie BurgessLighting Design: Amiya BrownThis Bitter EarthMusic: Max Richter and Clyde OtisChoreography: Christopher WheeldonCostume Design: Reid BartelmeLighting Design: Mary Louise Geiger(World Premiere)Choreography: Kyle AbrahamPhoto © Angela Sterling
END:VEVENT
END:VCALENDAR