BEGIN:VCALENDAR
VERSION:2.0
PRODID:-//hacksw/handcal//NONSGML v1.0//EN
BEGIN:VEVENT
DTSTAMP:20191116T220000Z
DTSTART:20191116T220000Z
DTEND:20191117T000000Z

SUMMARY:Discover Dance
DESCRIPTION:More than 700 elementary and junior high school students will perform the works they have created with their peers on stage at McCaw Hall. Performances include original works created in residencies by the students and PNB teaching artists.Featuring: Arbor Heights Elementary, Broadview Thomson K-8, Highland Park Elementary, Licton Springs K-8, REACH Student Dance Group, and PNB Company dancers
END:VEVENT
END:VCALENDAR