BEGIN:VCALENDAR
VERSION:2.0
PRODID:-//hacksw/handcal//NONSGML v1.0//EN
BEGIN:VEVENT
DTSTAMP:20231230T220000Z
DTSTART:20231230T220000Z
DTEND:20231231T000000Z

SUMMARY:ELF in Concert
DESCRIPTION:Buddy was accidentally transported to the North Pole as a toddler and raised to adulthood among Santa’s elves. Unable to shake the feeling that he doesn’t fit in, the adult Buddy travels to New York, in full elf uniform, in search of his real father. This holiday season relive this heartwarming holiday classic on a giant screen as every note of John Debney’s wonderful score is played live to picture in: ELF in Concert! ELF and all related characters and elements © & ™ New Line Productions, Inc. (s23)
END:VEVENT
END:VCALENDAR