BEGIN:VCALENDAR
VERSION:2.0
PRODID:-//hacksw/handcal//NONSGML v1.0//EN
BEGIN:VEVENT
DTSTAMP:20261114T220000Z
DTSTART:20261114T220000Z
DTEND:20261115T010000Z

SUMMARY:Ghost Stories
DESCRIPTION:Give in to inevitable goosebumps this November! George Balanchine’s haunting one-act ballet La Sonnambula, the tale of a beautiful sleepwalker and the misfortune in her wake, returns to PNB after a 10-year absence. Two contrasting pieces by Alejandro Cerrudo highlight his moody (Silent Ghost) at witty (PACOPEPEPLUTO) sides, giving you a full picture of this modern chorographer’s style. And, as a special treat, principal dancer Kyle Davis will create a world premiere work inspired by Edgar Allan Poe’s famous narrative poem “The Raven.” PRODUCTION INFORMATIONSilent GhostMusic: Ólafur Arnalds, Jon Hopkins & Kenny Anderson, Nils Frahm, Dustin HammanChoreography: Alejandro CerrudoStaging: Ana Lopez & Pablo PiantinoCostume Design: Branimira IvanovaLighting Design: Michael KorschPACOPEPEPLUTOMusic: Songs sung by Dean Martin and Joe ScalissiChoreography: Alejandro CerrudoCostume Design: Rebecca M. ShouseLighting Design: Matt MillerThe Raven (World Premiere)Music: Alexander DreyschockChoreography: Kyle DavisScenic Design: Jim FrenchCostume Design: Emma KingsburyLighting Design: Jim FrenchLa SonnambulaMusic: Vittorio RietiChoreography: George BalanchineScenic Design: Randall G. ChiarelliCostume Design: Christine Joly after original design by KarinskaLighting Design: Randall G. ChiarelliPhoto © Angela Sterling
END:VEVENT
END:VCALENDAR