BEGIN:VCALENDAR
VERSION:2.0
PRODID:-//hacksw/handcal//NONSGML v1.0//EN
BEGIN:VEVENT
DTSTAMP:20250522T020000Z
DTSTART:20250522T020000Z
DTEND:20250522T040000Z

SUMMARY:Grand Kyiv Ballet Presents Swan Lake
DESCRIPTION:Swan Lake is a ballet masterpiece renowned for its stunning choreography, intricate set design, and Tchaikovsky&#39;s captivating music. Its themes of love, sacrifice, and redemption continue to resonate with audiences of all ages and backgrounds, making it a timeless classic that has endured for more than a century.This enduring tale of love and magic will be brought to life by the finest dancers of the Ukrainian National Opera and Ballet Theater - two companies reunited on the McCaw Hall stage after a triumphant nine-month tour across the United States.For the first time in the history of Washington State, audiences will witness a breathtaking spectacle:  40 swans performing iconic choreographic scenes simultaneously on one stage. This unprecedented event promises to be a true celebration for all lovers of high art.Adding to the grandeur of the evening, the performance will be accompanied by the Wenatchee Symphony Orchestra, bringing Tchaikovsky’s legendary score to life with stunning depth and emotion.Don’t miss the opportunity to witness this unique performance!
END:VEVENT
END:VCALENDAR