BEGIN:VCALENDAR
VERSION:2.0
PRODID:-//hacksw/handcal//NONSGML v1.0//EN
BEGIN:VEVENT
DTSTAMP:20270306T033000Z
DTSTART:20270306T033000Z
DTEND:20270306T062000Z

SUMMARY:Lakmé in Concert
DESCRIPTION:Music by Léo DelibesLibretto by Edmond Gondinet & Phillipe GillePure enchantment, filled with sensuous music” – Gramophone UKLakmé is Delibes&#39; romantic fantasy of star-crossed lovers, accompanied by lilting, beautiful melodies and emotional arias. This concert presentation features romantic soaring orchestrations, including the famous "Flower Duet" and "Bell Song."This rarely-performed opera is demanding—and dazzling—for a soprano. Aigul Khismatullina is hailed as "a marvel of precision and high polish" (The Arts Desk) whose "singing deservedly brings the house down" (The Independent). Featuring 57 members of the Seattle Symphony and 50 Seattle Opera Choristers, this celebrated score is the perfect opportunity to immerse yourself in the sheer musical ecstasy of Lakmé. In French with English subtitlesApproximate Running Time: 2 hours and 50 minutes including one intermission
END:VEVENT
END:VCALENDAR