BEGIN:VCALENDAR
VERSION:2.0
PRODID:-//hacksw/handcal//NONSGML v1.0//EN
BEGIN:VEVENT
DTSTAMP:20231111T033000Z
DTSTART:20231111T033000Z
DTEND:20231111T053000Z

SUMMARY:Love & Loss
DESCRIPTION:This trio of works shines a light on some of the world premieres that PNB’s New Works Initiative has created in recent years. Donald Byrd’s haunting Love and Loss premiered in 2019, Alexei Ratmansky’s stunning tribute to his homeland of Ukraine, Wartime Elegy, followed in 2022, and inventive Australian choreographer Danielle Rowe will create something brand new for PNB dancers this November. Come bask in the glory that is new works at PNB!PRODUCTION INFORMATION WORLD PREMIEREMusic: Shannon RuganiChoreography: Danielle RoweCostume Design: Emma KingsburyLighting Design: Reed NakayamaWartime ElegyMusic: Valentin Silvestrov, and Ukrainian Village MusicChoreography: Alexei RatmanskyScenic Design: Wendall K. HarringtonArt: Matvi Vaisberg & Maria PrymachenkoCostume Design: Moritz JungeLighting Design: Reed NakayamaLove and LossMusic: Emmanuel WitzthumChoreography: Donald ByrdScenic and Lighting Design: Randall G. ChiarelliCostume Design: Doris Black
END:VEVENT
END:VCALENDAR