BEGIN:VCALENDAR
VERSION:2.0
PRODID:-//hacksw/handcal//NONSGML v1.0//EN
BEGIN:VEVENT
DTSTAMP:20230524T023000Z
DTSTART:20230524T023000Z
DTEND:20230524T043000Z

SUMMARY:Maksim - The Collection
DESCRIPTION:The virtuoso pianist Maksim, winner of MTV Music Awards and top prizes at prestigious international music competitions, will perform across America for the very first time. With a crossover show, THE COLLECTION will showcase the greatest hits of all time by Coldplay, John Legend, and Queen, themes from movies like The Godfather, Pirates of the Caribbean, Game of Thrones, and classical masterpieces by Liszt and Chopin, along with the biggest pieces from his previous ten albums like Flight of the Bumblebee, Exodus and many more. Maksim will perform with his full band and bring you a dazzling, overwhelming performance!
END:VEVENT
END:VCALENDAR