BEGIN:VCALENDAR
VERSION:2.0
PRODID:-//hacksw/handcal//NONSGML v1.0//EN
BEGIN:VEVENT
DTSTAMP:20250825T020000Z
DTSTART:20250825T020000Z
DTEND:20250825T040000Z

SUMMARY:Michael Learns To Rock
DESCRIPTION:For the first time ever, Michael Learns To Rock is bringing their iconic sound to North America!Formed in 1988, this legendary Danish band—featuring Jascha Richter, Kåre Wanscher, and Mikkel Lentz—has captivated global audiences with heartfelt melodies and timeless hits. Their 1991 debut introduced “The Actor”, and they’ve since sold over 11 million albums with 1.5 billion streams worldwide.With classics like “Sleeping Child”, “25 Minutes”, “That’s Why (You Go Away)”, “Paint My Love”, and “Take Me To Your Heart”—a reimagining of Jacky Cheung’s “Goodbye Kiss”—their music has touched millions, especially in Asia. Having performed over 800 concerts globally, their legacy spans generations.Now, North American fans can finally experience their magic live on the Take Us To Your Heart Tour. Don’t miss this historic moment!
END:VEVENT
END:VCALENDAR