BEGIN:VCALENDAR
VERSION:2.0
PRODID:-//hacksw/handcal//NONSGML v1.0//EN
BEGIN:VEVENT
DTSTAMP:20190915T230000Z
DTSTART:20190915T230000Z
DTEND:20190916T010000Z

SUMMARY:Music for Meditation & Healing
DESCRIPTION:Sri Ganapathy Sachchidananda SwamijiPresented by Yoga SangeetaYoga Sangeeta invites you to an immersive musical experience - Anahata Raga Sagara, soul-stirring instrumental music for meditation and healing by Nada Brahma His Holiness Dr. Sri Ganapathy Sachchidananda Swamiji of Avadhoota Datta Peetham, Mysore, India.Come bear witness to a prodigious talent as He weaves a rich musical tapestry of love, compassion, and healing that will enchant your senses and uplift your spirit. Renowned world over for His musical prowess, Sri Swamiji has over 350 concerts, 250 albums and 9 Guinness World Records to His name. He has touched millions of hearts with His musical message of love and healing in performances at such iconic venues as the Royal Albert Hall (London), Sydney Opera House, Lincoln Center (New York), to name only a few.Yoga Sangeeta is excited to host Him for the first time in Seattle and welcomes you to an evening of divine musical splendor!Ages: 10+. Onsite childcare available for ages 4+ (email sgsseattle@outlook.com to register).Take home snack boxes provided after the concert.
END:VEVENT
END:VCALENDAR