BEGIN:VCALENDAR
VERSION:2.0
PRODID:-//hacksw/handcal//NONSGML v1.0//EN
BEGIN:VEVENT
DTSTAMP:20240317T023000Z
DTSTART:20240317T023000Z
DTEND:20240317T043000Z

SUMMARY:One Thousand Pieces
DESCRIPTION:Four years after its originally-scheduled PNB premiere, Alejandro Cerrudo’s complete One Thousand Pieces will finally take to the McCaw Hall stage. Cerrudo’s large-scale ensemble work is inspired by the work of artist Marc Chagall and features music from Philip Glass. Paired with the revelry and joy of Matthew Neenan’s made-for-PNB Bacchus.PRODUCTION INFORMATION BacchusMusic: Oliver DavisChoreography: Matthew NeenanCostume Design: Mark ZapponeLighting Design: Randall G. ChiarelliOne Thousand PiecesMusic: Philip GlassChoreography: Alejandro CerrudoStaging: Pablo Piantino/Ana LopezScenic and Costume Design: Thomas MikaLighting Design: Michael Korsch
END:VEVENT
END:VCALENDAR