BEGIN:VCALENDAR
VERSION:2.0
PRODID:-//hacksw/handcal//NONSGML v1.0//EN
BEGIN:VEVENT
DTSTAMP:20231001T200000Z
DTSTART:20231001T200000Z
DTEND:20231001T220000Z

SUMMARY:Petite Mort
DESCRIPTION:PNB’s season-opener is jam-packed with whimsy, artistry, and drama. Built on a foundation of music from Mozart, Haydn, Beethoven, and Schubert, this triple-bill looks at the world of dance through the unique perspectives of Jiri Kylian and Alexander Ekman.PRODUCTION INFORMATION Petite MortMusic: Wolfgang Amadeus MozartChoreography: Jiri KylianStaging: Roslyn AndersonScenic Design: Jiri KylianCostume Design: Joke VisserLighting Design: Joop CaboortSechs Tänze (Six Dances)Music: Wolfgang Amadeus MozartChoreography: Jiri KylianStaging: Roslyn AndersonScenic and Costume Design: Jiri KylianLighting Design: Joop CaboortCactiMusic: Franz Josef Haydn, Ludwig van Beethoven, and Franz SchubertText: Spenser ThebergeChoreography: Alexander EkmanStaging: Ana LucaciuScenic and Costume Design: Alexander EkmanLighting Design: Tom Visser
END:VEVENT
END:VCALENDAR