BEGIN:VCALENDAR
VERSION:2.0
PRODID:-//hacksw/handcal//NONSGML v1.0//EN
BEGIN:VEVENT
DTSTAMP:20240706T020000Z
DTSTART:20240706T020000Z
DTEND:20240706T040000Z

SUMMARY:Dr. Satinder Sartaaj
DESCRIPTION:(Note: event was originally titled Realm of a Poet: SHAYAR Live)Dr. Satinder Sartaaj is a multi-gifted artist, artist, songwriter, singer, composer, and poet. Today, Dr. Satinder Sartaaj possesses an unprecedented list of achievements and remains in the forefront of his craft, a true inspiration. As an artist, he excites, enlightens, leads, and embraces his fans with insights into life’s meaning and deepest feelings. Ancestral values are seen embedded deep in his poetry. Satinder Sartaaj captivates audiences through the vigor and sheer beauty of his words and lyrics. His songs stir the souls, energize the bodies, liberate the minds, and heal the hearts. Satinder Sartaaj is an internationally known singer best recognized for his well-decorated career in Punjabi music.
END:VEVENT
END:VCALENDAR