BEGIN:VCALENDAR
VERSION:2.0
PRODID:-//hacksw/handcal//NONSGML v1.0//EN
BEGIN:VEVENT
DTSTAMP:20250619T023000Z
DTSTART:20250619T023000Z
DTEND:20250619T040000Z

SUMMARY:ROCKING with William Shatner & Neil deGrasse Tyson
DESCRIPTION:ROCKING. One Night Only. Two Icons. Unscripted.William Shatner and Neil deGrasse Tyson share the stage for a rare, unfiltered exchange unlike anything else. No script. No rules. Just two brilliant minds in real time, curious, candid, and wildly unpredictable.From reflections on exploration to untold stories from Earth, space, and their recent Antarctic journey, anything could emerge. What&#39;s guaranteed? Sparked chemistry, bold ideas, and a night that defies expectations.This isn&#39;t a lecture. It&#39;s a live experience between living legends, raw, real, and never to be repeated.A once-in-a-lifetime event in Seattle. Seats are limited. This is a night you’ll want to say you were there for!
END:VEVENT
END:VCALENDAR