BEGIN:VCALENDAR
VERSION:2.0
PRODID:-//hacksw/handcal//NONSGML v1.0//EN
BEGIN:VEVENT
DTSTAMP:20261101T023000Z
DTSTART:20261101T023000Z
DTEND:20261101T041500Z

SUMMARY:Salome
DESCRIPTION:Music by Richard StraussLibretto based on Hedwig Lachmann&#39;s translation of Oscar Wilde&#39;s playSanctified insanity.Adapted from the Oscar Wilde play of the same name, Salome has been thrilling and shocking audiences since its premiere in 1905. And it&#39;s easy to see why: a biblical story complete with a lecherous king, a willful princess, and an unyielding prophet is bound to get attention. Add in a power struggle, a dangerous obsession, and a dance that scandalizes audiences to this day, all set to Strauss&#39;s iconic music, and you&#39;re in for a wild and gripping performance.An exhilarating one-act tragedy, this production is brought to life with sets by award-winning designer Leslie Travers and some incredible voices; Grammy-nominated Brenda Rae will dazzle with her "tireless golden soprano" (Bachtrack) in her title-role debut, and Chad Shelton promises to bring his "thrilling tone and technical precision" (Opera News) to the role of King Herod. In German with English subtitlesApproximate Running Time: 1 hour and 45 minutes with no intermission
END:VEVENT
END:VCALENDAR