BEGIN:VCALENDAR
VERSION:2.0
PRODID:-//hacksw/handcal//NONSGML v1.0//EN
BEGIN:VEVENT
DTSTAMP:20251001T020000Z
DTSTART:20251001T020000Z
DTEND:20251001T033000Z

SUMMARY:Second Acts Live
DESCRIPTION:McCaw Hall will host the premiere of Second Acts Live, a new live experience hosted by two-time WNBA All-Star and sports analyst Chiney Ogwumike. The inaugural show features WNBA legend Sue Bird, on stage in her home of Seattle, to share her journey beyond the game, the challenges of reinvention, and how she is helping shape the future of women’s sports.Through immersive staging, multimedia, and dramatic design, Bird’s story unfolds like a modern documentary, blending the thrill of sports with the power of live theater. It is an intimate, larger-than-life evening that celebrates her career, her second act, and the community that cheered her on at every step.After Seattle, Second Acts Live will visit Philadelphia with ESPN’s Adrian Wojnarowski (October) and Atlanta with NFL great Michael Vick (December), building toward a 2026 national tour. Second Acts Live is produced by Tony Award–winning Folk Productions, Front Office Sports Studios, and Victorious, Ogwumike’s production company.
END:VEVENT
END:VCALENDAR