BEGIN:VCALENDAR
VERSION:2.0
PRODID:-//hacksw/handcal//NONSGML v1.0//EN
BEGIN:VEVENT
DTSTAMP:20261004T023000Z
DTSTART:20261004T023000Z
DTEND:20261004T053000Z

SUMMARY:Serenade
DESCRIPTION:Immerse yourself in a world of romance and beauty with PNB’s stunning 2026/27 season opener. George Balanchine’s Serenade, his first work created in America, is an ethereal celebration of the ensemble of dancers, rather than the individual. Alexei Ratmansky’s Pictures at an Exhibition is a vivid and nuanced celebration of art, and Jessica Lang’s newest work promises to be nothing short of brilliant. PRODUCTION INFORMATIONSerenadeMusic: Peter Ilyich TchaikovskyChoreography: George Balanchine © The George Balanchine TrustStaging: Francia RussellCostume Design: KarinskaLighting Design: Randall G. ChiarelliWorld PremiereMusic: David LangChoreography: Jessica LangScenic Design: Libby StadstadCostume Design: Jillian LewisLighting Design: Brandon Stirling BakerPictures at an ExhibitionMusic: Modest MussorgskyChoreography: Alexei RatmanskyStaging: Wendy WhelanCostume Design: Adeline AndreLighting Design: Mark StanleyProjection Design: Wendall K. HarringtonPhoto © Angela Sterling
END:VEVENT
END:VCALENDAR