BEGIN:VCALENDAR
VERSION:2.0
PRODID:-//hacksw/handcal//NONSGML v1.0//EN
BEGIN:VEVENT
DTSTAMP:20191002T023000Z
DTSTART:20191002T023000Z
DTEND:20191002T043000Z

SUMMARY:Sing! Seattle: Keith And Kristyn Getty
DESCRIPTION:Join Keith and Kristyn Getty and their band of amazing Irish and Bluegrass musicians for an exciting evening of Singing at the beautiful McCaw Hall - the home of Seattle Opera and Pacific Northwest Ballet! This event features the Getty&#39;s virtuosic Irish/American band along with a choir of 300 voices and will feature many familiar songs for everyone to SING! including The Lord is My Salvation, He Will Hold Me fast and In Christ Alone! and new songs including His Mercy is More, I Will Wait for you, and Magnificent Marvellous.
END:VEVENT
END:VCALENDAR