BEGIN:VCALENDAR
VERSION:2.0
PRODID:-//hacksw/handcal//NONSGML v1.0//EN
BEGIN:VEVENT
DTSTAMP:20270213T033000Z
DTSTART:20270213T033000Z
DTEND:20270213T063000Z

SUMMARY:Swan Lake
DESCRIPTION:“Beautifully designed ... a doomed, gorgeous love story.” – The Seattle TimesConsidered by many to be the greatest classical ballet of all time, Swan Lake is nothing short of mesmerizing. Kent Stowell&#39;s interpretation, a PNB favorite since 1981, overflows with romance, sorcery, and heartbreak. Between Tchaikovsky&#39;s universally beloved score, PNB’s uniquely spellbinding set and costume designs, and virtuoso performances from the entire PNB Company, this production will keep you on the edge of your seat from start to finish.PRODUCTION INFORMATION Music: Peter Ilyich TchaikovskyChoreography: Kent StowellStaging: Francia Russell (after Marius Petipa and Lev Ivanov)Scenic Design: Ming Cho LeeCostume Design: Paul TazewellLighting Design: Randall G. ChiarelliApproximate running time: 3 hours, including intermissionPhoto © Angela Sterling
END:VEVENT
END:VCALENDAR