BEGIN:VCALENDAR
VERSION:2.0
PRODID:-//hacksw/handcal//NONSGML v1.0//EN
BEGIN:VEVENT
DTSTAMP:20220418T020000Z
DTSTART:20220418T020000Z
DTEND:20220418T050000Z

SUMMARY:Swan Lake
DESCRIPTION:PNB’s triumphant return to the stage wouldn’t be complete without Kent Stowell’s Swan Lake. Every element of this production is carefully crafted to keep you on the edge of your seat, from the masterful choreography, to the stunning costumes, to the undeniably iconic score. Most captivating of all? The story at the ballet’s heart: a classic tale of good versus evil, temptation, tragedy, and love of the highest order.PRODUCTION INFORMATION Music: Peter Ilyich Tchaikovsky (Op. 20, 1875–1876)Choreography: Kent StowellStaging: Francia Russell (after Marius Petipa and Lev Ivanov)Scenic Design: Ming Cho LeeCostume Design: Paul TazewellLighting Design: Randall G. ChiarelliApproximate running time: 3 hours, including intermission
END:VEVENT
END:VCALENDAR