BEGIN:VCALENDAR
VERSION:2.0
PRODID:-//hacksw/handcal//NONSGML v1.0//EN
BEGIN:VEVENT
DTSTAMP:20190908T023000Z
DTSTART:20190908T023000Z
DTEND:20190908T043000Z

SUMMARY:The Butterfly Lovers - Liang Zhu 梁祝
DESCRIPTION:Combining the elegant style and expressive techniques of classical Chinese dance and one of China’s four most treasured tragic love stories, the world-renowned Beijing Dance Academy greets audiences in the Pacific Northwest for the first presentation in the US of this newly choreographed, award-winning, romantic dance drama, the “Butterfly Lovers – Liang Zhu 梁祝”.  This artistic creation delivered with the universal language of dance is a grand collaboration by a dream team of top alumni talents with roots from the Beijing Dance Academy, including our own treasure from the Pacific Northwest - Director Li Hengda.  The dance drama reinterprets the beautiful legends of Liang Zhu with a masterful presentation for a new generation, traversing history, bridging cultures and creating a new heritage. A Beloved Chinese Legend - A New Pacific Northwest Heritage - An Experience of a Lifetime
END:VEVENT
END:VCALENDAR