BEGIN:VCALENDAR
VERSION:2.0
PRODID:-//hacksw/handcal//NONSGML v1.0//EN
BEGIN:VEVENT
DTSTAMP:20240413T023000Z
DTSTART:20240413T023000Z
DTEND:20240413T043000Z

SUMMARY:The Seasons' Canon
DESCRIPTION:Back by popular demand, Crystal Pite’s mesmerizing The Seasons’ Canon features 54 dancers moving as one organism to Vivaldi’s The Four Seasons, recomposed by Max Richter. Pite’s opus is complemented by Twyla Tharp’s Shaker-inspired Sweet Fields and Jessica Lang’s stunning solo work, The Calling.PRODUCTION INFORMATION Sweet FieldsMusic: 18th- and 19th-century American hymns and Shaker songsChoreography: Twyla TharpStaging: Matt Rivera with Shelley WashingtonOriginal Costume Design: Norma KamaliOriginal Lighting Design: Jennifer TiptonThe CallingMusic: Anonymous 12th-13th century Choreography: Jessica LangStaging: Kanji SegawaCostume Design: Elena ComendadorCostume Concept: Jessica LangLighting Design: Nicole PearcThe Seasons’ CanonMusic: Max Richter (Antonio Vivaldi)Choreography: Crystal PiteStaging: Eric Beauchesne and Anna HerrmannScenic Design: Jay Gower TaylorCostume Design: Nancy BryantLighting Design: Tom Visser
END:VEVENT
END:VCALENDAR